BEGIN:VCALENDAR
VERSION:2.0
PRODID:-//Barrett Paradise Friendly Library - ECPv6.15.20//NONSGML v1.0//EN
CALSCALE:GREGORIAN
METHOD:PUBLISH
X-WR-CALNAME:Barrett Paradise Friendly Library
X-ORIGINAL-URL:https://www.barrettlibrary.org
X-WR-CALDESC:Events for Barrett Paradise Friendly Library
REFRESH-INTERVAL;VALUE=DURATION:PT1H
X-Robots-Tag:noindex
X-PUBLISHED-TTL:PT1H
BEGIN:VTIMEZONE
TZID:America/New_York
BEGIN:DAYLIGHT
TZOFFSETFROM:-0500
TZOFFSETTO:-0400
TZNAME:EDT
DTSTART:20200308T070000
END:DAYLIGHT
BEGIN:STANDARD
TZOFFSETFROM:-0400
TZOFFSETTO:-0500
TZNAME:EST
DTSTART:20201101T060000
END:STANDARD
BEGIN:DAYLIGHT
TZOFFSETFROM:-0500
TZOFFSETTO:-0400
TZNAME:EDT
DTSTART:20210314T070000
END:DAYLIGHT
BEGIN:STANDARD
TZOFFSETFROM:-0400
TZOFFSETTO:-0500
TZNAME:EST
DTSTART:20211107T060000
END:STANDARD
BEGIN:DAYLIGHT
TZOFFSETFROM:-0500
TZOFFSETTO:-0400
TZNAME:EDT
DTSTART:20220313T070000
END:DAYLIGHT
BEGIN:STANDARD
TZOFFSETFROM:-0400
TZOFFSETTO:-0500
TZNAME:EST
DTSTART:20221106T060000
END:STANDARD
END:VTIMEZONE
BEGIN:VEVENT
DTSTART;VALUE=DATE:20211201
DTEND;VALUE=DATE:20211202
DTSTAMP:20260424T204649
CREATED:20211101T155408Z
LAST-MODIFIED:20211101T155408Z
UID:4559-1638316800-1638403199@www.barrettlibrary.org
SUMMARY:December Take & Make
DESCRIPTION:December Brown Bag Take & Make: \nPick Up Begins December 1st  \nPick up supplies at the Library and complete the project on your own at home. \nBrown bag activities are available in the children’s area on a first-come\, first-served basis. Supplies are limited! \nAges 0-5 – Snow Globe Craft \nAges 6-11 – Winter Crystal Candy
URL:https://www.barrettlibrary.org/event/december-take-make/
END:VEVENT
BEGIN:VEVENT
DTSTART;TZID=America/New_York:20211130T190000
DTEND;TZID=America/New_York:20211130T200000
DTSTAMP:20260424T204649
CREATED:20211109T162204Z
LAST-MODIFIED:20211109T162204Z
UID:4584-1638298800-1638302400@www.barrettlibrary.org
SUMMARY:Virtual Evening Book Club
DESCRIPTION:Join our virtual evening book club on Zoom! This month\, we will discuss Recipe for a Perfect Wife by Karma Brown. If you’re interested in joining\, please call the library for more details. \n 
URL:https://www.barrettlibrary.org/event/virtual-evening-book-club-4/
END:VEVENT
BEGIN:VEVENT
DTSTART;TZID=America/New_York:20211124T140000
DTEND;TZID=America/New_York:20211124T150000
DTSTAMP:20260424T204649
CREATED:20211109T161413Z
LAST-MODIFIED:20211109T161413Z
UID:4574-1637762400-1637766000@www.barrettlibrary.org
SUMMARY:Virtual Bard Group
DESCRIPTION:The Bard Group is back on Zoom with the brilliant and hilarious Pat Williams. To register\, please call the library or email l.vromanbpfl@gmail.com. \n 
URL:https://www.barrettlibrary.org/event/virtual-bard-group-3/
END:VEVENT
BEGIN:VEVENT
DTSTART;TZID=America/New_York:20211124T103000
DTEND;TZID=America/New_York:20211124T110000
DTSTAMP:20260424T204649
CREATED:20211101T160643Z
LAST-MODIFIED:20211101T160849Z
UID:4565-1637749800-1637751600@www.barrettlibrary.org
SUMMARY:Cruise Into Kindergarten Virtual Story Time on Facebook
DESCRIPTION:Cruise into Kindergarten is an interactive story time which features stories\, music\, creative play and exploration. The activities support school readiness and the PA Pre-K Standards for literacy\, math\, science and many other skills. This month we will explore fun ways to make time spent in the kitchen fun and educational!  This is an ongoing series that runs from September 2021 through June 2022. A limited number of supply kits are available at the library\, please call to reserve yours today! Some of the activities will be featured in story time LIVE on Facebook! Wednesday\, November 24th 10:30AM. \nYou do not need a Facebook account to view this video. Visit www.Facebook.com/BPFLibrary/live
URL:https://www.barrettlibrary.org/event/cruise-into-kindergarten-virtual-story-time-on-facebook/
END:VEVENT
BEGIN:VEVENT
DTSTART;VALUE=DATE:20211124
DTEND;VALUE=DATE:20211125
DTSTAMP:20260424T204649
CREATED:20211109T162046Z
LAST-MODIFIED:20211109T162046Z
UID:4582-1637712000-1637798399@www.barrettlibrary.org
SUMMARY:Facebook Trivia: Colonial America
DESCRIPTION:Add this fun trivia quiz to your game night before Thanksgiving! We’ll post it to our Facebook page\, and you can take it with family and friends whenever you’d like.
URL:https://www.barrettlibrary.org/event/facebook-trivia-colonial-america/
END:VEVENT
BEGIN:VEVENT
DTSTART;VALUE=DATE:20211122
DTEND;VALUE=DATE:20211211
DTSTAMP:20260424T204649
CREATED:20211114T215005Z
LAST-MODIFIED:20211210T181917Z
UID:4600-1637539200-1639180799@www.barrettlibrary.org
SUMMARY:Basket Raffle!
DESCRIPTION:Gift Baskets are on display at the Library from Mon\, Nov. 22 through Fri\, Dec. 10. Purchase tickets anytime during this time period at the Library or online. Drawing will be held on Sat\, Dec. 11\, starting approximately 3:30pm. The drawing is closed to the public but can be viewed online at https://www.facebook.com/BPFLibrary/live. Winners will be contacted within a few days of the drawing. All proceeds benefit Library programs and services. Basket Raffle flyer 2021.
URL:https://www.barrettlibrary.org/event/basket-raffle/
END:VEVENT
BEGIN:VEVENT
DTSTART;TZID=America/New_York:20211120T190000
DTEND;TZID=America/New_York:20211120T193000
DTSTAMP:20260424T204649
CREATED:20211101T154542Z
LAST-MODIFIED:20211101T154542Z
UID:4557-1637434800-1637436600@www.barrettlibrary.org
SUMMARY:Saturday Night Library: The Cranberries
DESCRIPTION:Saturday Night Library: The Cranberries \nAges 6-11 \nSaturday\, November 20th 7PM \nCelebrate the return of SNL – Thanksgiving Style!  \nPick up supplies at the library and then tune-in on Facebook for an interactive program where you will learn more about the tiny\, tart super fruit known as the cranberry. \n You will see a real cranberry bog\, build a cranberry statue\, and make your own cranberry sauce!  \nCall 570-595-7171 to register. \n*This program requires the use of a stove – adult supervision required!*
URL:https://www.barrettlibrary.org/event/saturday-night-library-the-cranberries/
END:VEVENT
BEGIN:VEVENT
DTSTART;TZID=America/New_York:20211117T140000
DTEND;TZID=America/New_York:20211117T150000
DTSTAMP:20260424T204649
CREATED:20211109T161330Z
LAST-MODIFIED:20211109T161330Z
UID:4572-1637157600-1637161200@www.barrettlibrary.org
SUMMARY:Virtual Bard Group
DESCRIPTION:The Bard Group is back on Zoom with the brilliant and hilarious Pat Williams. To register\, please call the library or email l.vromanbpfl@gmail.com. \n 
URL:https://www.barrettlibrary.org/event/virtual-bard-group-2/
END:VEVENT
BEGIN:VEVENT
DTSTART;VALUE=DATE:20211117
DTEND;VALUE=DATE:20211118
DTSTAMP:20260424T204649
CREATED:20211101T154024Z
LAST-MODIFIED:20211101T154024Z
UID:4555-1637107200-1637193599@www.barrettlibrary.org
SUMMARY:Cruise Into Kindergarten- TO GO! - Activity Bag Pickup Day
DESCRIPTION:Cruise Into Kindergarten- TO GO! \nPick up begins November 17th \nSupplies are limited. Please call 570-595-7171 to register. \n“Preparing Meals” \nThis month we will explore fun ways to make time spent in the kitchen fun and educational! Cruise into Kindergarten is an interactive story time which features stories\, music\, creative play and exploration. \n The activities support school readiness and the PA Pre-K Standards for literacy\, math\, science and many other skills.  \nThis is an ongoing series that runs from September 2021 through June 2022. \nEvery month you will receive a to-go bag of activities that support school readiness.  \nA special virtual children’s area will also be available with links to games\, videos\, and other websites for further exploration. \n Some of the activities will be featured in story time LIVE on Facebook! Wednesday\, November 24th 11AM. \n 
URL:https://www.barrettlibrary.org/event/cruise-into-kindergarten-to-go-activity-bag-pickup-day/
END:VEVENT
BEGIN:VEVENT
DTSTART;TZID=America/New_York:20211116T130000
DTEND;TZID=America/New_York:20211116T140000
DTSTAMP:20260424T204649
CREATED:20211109T161853Z
LAST-MODIFIED:20211109T162242Z
UID:4580-1637067600-1637071200@www.barrettlibrary.org
SUMMARY:Virtual Afternoon Book Club
DESCRIPTION:Join our virtual afternoon book club on Zoom! This month\, we will discuss Anxious People by Fredrik Backman. If you’re interested in joining\, please call the library for more details.
URL:https://www.barrettlibrary.org/event/virtual-afternoon-book-club-4/
END:VEVENT
BEGIN:VEVENT
DTSTART;TZID=America/New_York:20211111T183000
DTEND;TZID=America/New_York:20211111T193000
DTSTAMP:20260424T204649
CREATED:20211109T161731Z
LAST-MODIFIED:20211109T161731Z
UID:4578-1636655400-1636659000@www.barrettlibrary.org
SUMMARY:Virtual Writing Group
DESCRIPTION:Join our virtual writing group! We discuss the art of writing\, while coming up with fun writing exercises every meeting. If you’re interested\, please contact the library for more information.
URL:https://www.barrettlibrary.org/event/virtual-writing-group-5/
END:VEVENT
BEGIN:VEVENT
DTSTART;TZID=America/New_York:20211110T140000
DTEND;TZID=America/New_York:20211110T150000
DTSTAMP:20260424T204649
CREATED:20211109T161234Z
LAST-MODIFIED:20211109T161234Z
UID:4570-1636552800-1636556400@www.barrettlibrary.org
SUMMARY:Virtual Bard Group
DESCRIPTION:The Bard Group is back on Zoom with the brilliant and hilarious Pat Williams. To register\, please call the library or email l.vromanbpfl@gmail.com. \n 
URL:https://www.barrettlibrary.org/event/virtual-bard-group/
END:VEVENT
BEGIN:VEVENT
DTSTART;VALUE=DATE:20211110
DTEND;VALUE=DATE:20211111
DTSTAMP:20260424T204649
CREATED:20211109T161619Z
LAST-MODIFIED:20211109T161619Z
UID:4576-1636502400-1636588799@www.barrettlibrary.org
SUMMARY:Facebook Photography Challenge: Thankful
DESCRIPTION:For this month’s photo challenge\, we want to see what you are thankful for in creative pictures. We’ll post a prompt on our Facebook page\, and you can share your pictures with the community in the comment section.
URL:https://www.barrettlibrary.org/event/facebook-photography-challenge-thankful/
END:VEVENT
BEGIN:VEVENT
DTSTART;VALUE=DATE:20211101
DTEND;VALUE=DATE:20211102
DTSTAMP:20260424T204649
CREATED:20211101T153843Z
LAST-MODIFIED:20211101T153843Z
UID:4551-1635724800-1635811199@www.barrettlibrary.org
SUMMARY:Take & Make - Woven Placemat Craft
DESCRIPTION:November Brown Bag Take & Make \nPick Up Begins November 1 \nPick up supplies at the Library and complete the project on your own at home. \nBrown bag activities are available in the children’s area on a first-come\, first-served basis. Supplies are limited! \nWoven Placemat Craft – For Children of All Ages! \n \n 
URL:https://www.barrettlibrary.org/event/take-make-woven-placemat-craft/
END:VEVENT
BEGIN:VEVENT
DTSTART;VALUE=DATE:20211029
DTEND;VALUE=DATE:20211030
DTSTAMP:20260424T204649
CREATED:20210922T203740Z
LAST-MODIFIED:20210922T203740Z
UID:4529-1635465600-1635551999@www.barrettlibrary.org
SUMMARY:Facebook Photography Challenge
DESCRIPTION:Share your spooky Halloween pictures with the community! We’ll post a prompt on our Facebook page\, and you can showcase your pictures in the comment section. \n 
URL:https://www.barrettlibrary.org/event/facebook-photography-challenge/
END:VEVENT
BEGIN:VEVENT
DTSTART;TZID=America/New_York:20211027T110000
DTEND;TZID=America/New_York:20211027T113000
DTSTAMP:20260424T204650
CREATED:20210918T182353Z
LAST-MODIFIED:20210918T182353Z
UID:4516-1635332400-1635334200@www.barrettlibrary.org
SUMMARY:Cruise Into Kindergarten Virtual Story Time
DESCRIPTION:Cruise Into Kindergarten Virtual Story Time \n“Taking a Walk” \nCruise into Kindergarten is an interactive story time which features stories\, music\, creative play and exploration. The activities support school readiness and the PA Pre-K Standards for literacy\, math\, science and many other skills. Follow along LIVE on Facebook! Wednesday\, October 27th 11AM. \nYou do not need a facebook account to watch\, simply visit: \nwww.Facebook.com/BPFLibrary/Live \n 
URL:https://www.barrettlibrary.org/event/cruise-into-kindergarten-virtual-story-time/
END:VEVENT
BEGIN:VEVENT
DTSTART;VALUE=DATE:20211027
DTEND;VALUE=DATE:20211028
DTSTAMP:20260424T204650
CREATED:20210922T204722Z
LAST-MODIFIED:20210922T204722Z
UID:4533-1635292800-1635379199@www.barrettlibrary.org
SUMMARY:Classic Horror Movie Trivia on Facebook
DESCRIPTION:To celebrate Halloween\, test your scary movie knowledge. We’ll post the fun trivia quiz on our Facebook page\, and you can take it whenever you’d like.
URL:https://www.barrettlibrary.org/event/classic-horror-movie-trivia-on-facebook/
END:VEVENT
BEGIN:VEVENT
DTSTART;TZID=America/New_York:20211026T190000
DTEND;TZID=America/New_York:20211026T200000
DTSTAMP:20260424T204650
CREATED:20210922T203423Z
LAST-MODIFIED:20210922T203423Z
UID:4527-1635274800-1635278400@www.barrettlibrary.org
SUMMARY:Virtual Evening Book Club
DESCRIPTION:Join our virtual evening book club on Zoom! This month\, we will discuss Miracle Creek by Angie Kim. If you’re interested in joining\, please call the library for more details. \n 
URL:https://www.barrettlibrary.org/event/virtual-evening-book-club-3/
END:VEVENT
BEGIN:VEVENT
DTSTART;TZID=America/New_York:20211026T110000
DTEND;TZID=America/New_York:20211026T113000
DTSTAMP:20260424T204650
CREATED:20210918T174053Z
LAST-MODIFIED:20211025T181122Z
UID:4494-1635246000-1635247800@www.barrettlibrary.org
SUMMARY:Story Time at High Acres Park (canceled due to rain)
DESCRIPTION:THIS EVENT HAS BEEN CANCELED. \nTuesdays at 11AM \nHigh Acres Park (weather permitting) \nAges 0-5 \nJoin Miss Jennifer under the pavilion at High Acres Park  \nfor stories\, songs\, and games!  \nPlease call 570-595-7171 to register.
URL:https://www.barrettlibrary.org/event/story-time-at-high-acres-park-6/
END:VEVENT
BEGIN:VEVENT
DTSTART;VALUE=DATE:20211025
DTEND;VALUE=DATE:20211026
DTSTAMP:20260424T204650
CREATED:20210922T204547Z
LAST-MODIFIED:20210922T204547Z
UID:4531-1635120000-1635206399@www.barrettlibrary.org
SUMMARY:Adult Take-Home Craft: Horror Story Pendants
DESCRIPTION:Take a page out of a scary story and turn it into a fun necklace. We’ll supply all the materials to make this fun craft. To reserve your craft bag\, call the library or email l.vromanbpfl@gmail.com.
URL:https://www.barrettlibrary.org/event/adult-take-home-craft-horror-story-pendants/
END:VEVENT
BEGIN:VEVENT
DTSTART;TZID=America/New_York:20211019T130000
DTEND;TZID=America/New_York:20211019T140000
DTSTAMP:20260424T204650
CREATED:20210922T203307Z
LAST-MODIFIED:20210922T203557Z
UID:4525-1634648400-1634652000@www.barrettlibrary.org
SUMMARY:Virtual Afternoon Book Club
DESCRIPTION:Join our virtual afternoon book club on Zoom! This month\, we will discuss The Night Ocean by Paul LaFarge. If you’re interested in joining\, please call the library for more details. \n 
URL:https://www.barrettlibrary.org/event/virtual-afternoon-book-club-3/
END:VEVENT
BEGIN:VEVENT
DTSTART;TZID=America/New_York:20211019T110000
DTEND;TZID=America/New_York:20211019T113000
DTSTAMP:20260424T204650
CREATED:20210918T173709Z
LAST-MODIFIED:20210918T174434Z
UID:4492-1634641200-1634643000@www.barrettlibrary.org
SUMMARY:Story Time at High Acres Park
DESCRIPTION:Tuesdays in October at 11AM \nHigh Acres Park (weather permitting) \nAges 0-5 \nJoin Miss Jennifer under the pavilion at High Acres Park  \nfor stories\, songs\, and games!  \nPlease call 570-595-7171 to register.
URL:https://www.barrettlibrary.org/event/story-time-at-high-acres-park-5/
END:VEVENT
BEGIN:VEVENT
DTSTART;TZID=America/New_York:20211014T183000
DTEND;TZID=America/New_York:20211014T193000
DTSTAMP:20260424T204650
CREATED:20210922T202901Z
LAST-MODIFIED:20210922T202901Z
UID:4523-1634236200-1634239800@www.barrettlibrary.org
SUMMARY:Virtual Writing Group
DESCRIPTION:Join our virtual writing group! We discuss the art of writing\, while coming up with fun writing exercises every meeting. If you’re interested\, please contact the library for more information.
URL:https://www.barrettlibrary.org/event/virtual-writing-group-4/
END:VEVENT
BEGIN:VEVENT
DTSTART;VALUE=DATE:20211013
DTEND;VALUE=DATE:20211014
DTSTAMP:20260424T204650
CREATED:20210918T181403Z
LAST-MODIFIED:20210918T181403Z
UID:4511-1634083200-1634169599@www.barrettlibrary.org
SUMMARY:Cruise Into Kindergarten- TO GO!
DESCRIPTION:Cruise Into Kindergarten- TO GO! \nPick up begins October 13th \n“Taking a Walk” \nCruise into Kindergarten is an interactive story time which features stories\, music\, creative play and exploration. The activities support school readiness and the PA Pre-K Standards for literacy\, math\, science and many other skills. This is an ongoing series that will run from September 2021 through June 2022. \nEvery month you will receive a to-go bag of activities that support school readiness. A special virtual children’s area will also be available with links to games\, videos\, and other websites for further exploration. Some of the activities will be featured in story time LIVE on Facebook! Wednesday\, October 27th 11AM.
URL:https://www.barrettlibrary.org/event/cruise-into-kindergarten-to-go-2/
END:VEVENT
BEGIN:VEVENT
DTSTART;TZID=America/New_York:20211012T110000
DTEND;TZID=America/New_York:20211012T113000
DTSTAMP:20260424T204650
CREATED:20210918T172832Z
LAST-MODIFIED:20210918T174912Z
UID:4488-1634036400-1634038200@www.barrettlibrary.org
SUMMARY:Story Time at High Acres Park
DESCRIPTION:Tuesdays at 11AM \nHigh Acres Park (weather permitting) \nAges 0-5 \nJoin Miss Jennifer under the pavilion at High Acres Park  \nfor stories\, songs\, and games!  \nPlease call 570-595-7171 to register.
URL:https://www.barrettlibrary.org/event/story-time-at-high-acres-park-4/
END:VEVENT
BEGIN:VEVENT
DTSTART;VALUE=DATE:20211011
DTEND;VALUE=DATE:20211012
DTSTAMP:20260424T204650
CREATED:20210922T202737Z
LAST-MODIFIED:20210922T202737Z
UID:4521-1633910400-1633996799@www.barrettlibrary.org
SUMMARY:Adult Take-Home Craft: DIY Cinnamon Honey Lip Scrub
DESCRIPTION:Pamper yourself with some DIY lip scrub. All the supplies and directions are included in the packet. To reserve your bag\, please call the library or email l.vromanbpfl@gmail.com. \n 
URL:https://www.barrettlibrary.org/event/adult-take-home-craft-diy-cinnamon-honey-lip-scrub/
END:VEVENT
BEGIN:VEVENT
DTSTART;TZID=America/New_York:20211005T110000
DTEND;TZID=America/New_York:20211005T113000
DTSTAMP:20260424T204650
CREATED:20210918T172639Z
LAST-MODIFIED:20210918T174810Z
UID:4486-1633431600-1633433400@www.barrettlibrary.org
SUMMARY:Story Time at High Acres Park
DESCRIPTION:Stories in the Park \nTuesdays in October \nHigh Acres Park (weather permitting) \nAges 0-5 \nJoin Miss Jennifer under the pavilion at High Acres Park  \nfor stories\, songs\, and games!  \nPlease call 570-595-7171 to register. \n 
URL:https://www.barrettlibrary.org/event/story-time-at-high-acres-park-3/
END:VEVENT
BEGIN:VEVENT
DTSTART;TZID=America/New_York:20211002T103000
DTEND;TZID=America/New_York:20211002T113000
DTSTAMP:20260424T204650
CREATED:20210918T180005Z
LAST-MODIFIED:20210918T180005Z
UID:4509-1633170600-1633174200@www.barrettlibrary.org
SUMMARY:Family Story Time - The Big Read 2021
DESCRIPTION:Family Story Time – The Big Read 2021 \nSaturday\, October 2nd 10:30AM \nHigh Acres Park \nJoin Miss Chelsea under the pavilion at High Acres Park for stories\, songs\, and games that celebrate the 1\,000 Books Before Kindergarten program. \nPlease call 570-595-7171 to register.
URL:https://www.barrettlibrary.org/event/family-story-time-the-big-read-2021/
END:VEVENT
BEGIN:VEVENT
DTSTART;VALUE=DATE:20211001
DTEND;VALUE=DATE:20211002
DTSTAMP:20260424T204650
CREATED:20210918T181801Z
LAST-MODIFIED:20210918T181801Z
UID:4514-1633046400-1633132799@www.barrettlibrary.org
SUMMARY:October Brown Bag Challenges
DESCRIPTION:Brown Bag Challenges \nPick Up Begins October 1 \nPick up supplies at the library and complete the project on your own.  \nBrown bag activities are available in the children’s area on a first-come\, first-served basis. Supplies are limited! \nString-a-Pumpkin – Ages 3-5 \nDissolving Pumpkins – Ages 6-11
URL:https://www.barrettlibrary.org/event/october-brown-bag-challenges/
END:VEVENT
BEGIN:VEVENT
DTSTART;TZID=America/New_York:20210929T110000
DTEND;TZID=America/New_York:20210929T113000
DTSTAMP:20260424T204650
CREATED:20210918T182618Z
LAST-MODIFIED:20210918T183416Z
UID:4518-1632913200-1632915000@www.barrettlibrary.org
SUMMARY:Cruise Into Kindergarten Virtual Story Time
DESCRIPTION:Cruise Into Kindergarten Virtual Story Time \n“Let’s Go Shopping!” \nCruise into Kindergarten is an interactive story time which features stories\, music\, creative play and exploration. The activities support school readiness and the PA Pre-K Standards for literacy\, math\, science and many other skills. Follow along LIVE on Facebook! Wednesday\, September 29th at 11AM. \nYou do not need a facebook account to watch\, simply visit: \nwww.Facebook.com/BPFLibrary/Live
URL:https://www.barrettlibrary.org/event/cruise-into-kindergarten-virtual-story-time-2/
END:VEVENT
END:VCALENDAR