BEGIN:VCALENDAR
VERSION:2.0
PRODID:-//Barrett Paradise Friendly Library - ECPv6.15.20//NONSGML v1.0//EN
CALSCALE:GREGORIAN
METHOD:PUBLISH
X-WR-CALNAME:Barrett Paradise Friendly Library
X-ORIGINAL-URL:https://www.barrettlibrary.org
X-WR-CALDESC:Events for Barrett Paradise Friendly Library
REFRESH-INTERVAL;VALUE=DURATION:PT1H
X-Robots-Tag:noindex
X-PUBLISHED-TTL:PT1H
BEGIN:VTIMEZONE
TZID:America/New_York
BEGIN:DAYLIGHT
TZOFFSETFROM:-0500
TZOFFSETTO:-0400
TZNAME:EDT
DTSTART:20210314T070000
END:DAYLIGHT
BEGIN:STANDARD
TZOFFSETFROM:-0400
TZOFFSETTO:-0500
TZNAME:EST
DTSTART:20211107T060000
END:STANDARD
BEGIN:DAYLIGHT
TZOFFSETFROM:-0500
TZOFFSETTO:-0400
TZNAME:EDT
DTSTART:20220313T070000
END:DAYLIGHT
BEGIN:STANDARD
TZOFFSETFROM:-0400
TZOFFSETTO:-0500
TZNAME:EST
DTSTART:20221106T060000
END:STANDARD
BEGIN:DAYLIGHT
TZOFFSETFROM:-0500
TZOFFSETTO:-0400
TZNAME:EDT
DTSTART:20230312T070000
END:DAYLIGHT
BEGIN:STANDARD
TZOFFSETFROM:-0400
TZOFFSETTO:-0500
TZNAME:EST
DTSTART:20231105T060000
END:STANDARD
END:VTIMEZONE
BEGIN:VEVENT
DTSTART;TZID=America/New_York:20220426T103000
DTEND;TZID=America/New_York:20220426T110000
DTSTAMP:20260425T083244
CREATED:20220316T190131Z
LAST-MODIFIED:20220316T190131Z
UID:4756-1650969000-1650970800@www.barrettlibrary.org
SUMMARY:Story Time at High Acres Park
DESCRIPTION:Story Time at High Acres Park \nAges 0-5 \nTuesdays in April 10:30AM \nAll children are welcome to join us under the pavilion at High Acres Park for stories\, songs\, and games! \nRegistration is not required. If it is raining on story time day\, please check our Facebook page or call the library for updates about cancellations.
URL:https://www.barrettlibrary.org/event/story-time-at-high-acres-park-10/
END:VEVENT
BEGIN:VEVENT
DTSTART;TZID=America/New_York:20220423T190000
DTEND;TZID=America/New_York:20220423T193000
DTSTAMP:20260425T083244
CREATED:20220316T184811Z
LAST-MODIFIED:20220316T184811Z
UID:4747-1650740400-1650742200@www.barrettlibrary.org
SUMMARY:Saturday Night Library: Reduce\, Reuse\, Recycle! 
DESCRIPTION:Saturday Night Library: Reduce\, Reuse\, Recycle!  \nAges 6-11 \nSaturday\, April 23rd 7PM \nCelebrate Earth Day with us! This interactive reader’s theater program puts you in the spotlight!  \nEach participant will be assigned a role for the short play\, “Reduce\, Reuse\, Recycle\,” which will teach us about the importance of caring for our planet!  \nDesign your set and costume on your own\, practice your lines\, and then we will all meet together on Zoom to present our show.  \nThere are lots of different parts to choose from\, from large speaking parts to a sound effects specialist!  \nThere is something for everyone\, and you will have a chance to choose your part on a first-come\, first-choice basis.  \nEmail chelseabpfl@gmail.com to register. You will receive a copy of the script upon registration.
URL:https://www.barrettlibrary.org/event/saturday-night-library-reduce-reuse-recycle/
END:VEVENT
BEGIN:VEVENT
DTSTART;VALUE=DATE:20220423
DTEND;VALUE=DATE:20220424
DTSTAMP:20260425T083244
CREATED:20220418T164517Z
LAST-MODIFIED:20220418T164517Z
UID:4819-1650672000-1650758399@www.barrettlibrary.org
SUMMARY:Earth Day Cleanup Kits
DESCRIPTION:Earth Day Cleanup Kits \nThe Sierra Club of Nevada is partnering with various community organizations to promote local clean-up events in the month of April. You may pick up a clean-up kit from the library while supplies last. Inside you will find a trash bag\, protective gloves\, a safety vest\, and information about the Sierra Club’s mission and local community clean-up events. Host your own clean-up\, join in with your community\, or just go solo! Whatever you choose\, the Earth will be cleaner thanks to you!
URL:https://www.barrettlibrary.org/event/earth-day-cleanup-kits/
END:VEVENT
BEGIN:VEVENT
DTSTART;VALUE=DATE:20220422
DTEND;VALUE=DATE:20220423
DTSTAMP:20260425T083244
CREATED:20220406T194624Z
LAST-MODIFIED:20220406T195118Z
UID:4773-1650585600-1650671999@www.barrettlibrary.org
SUMMARY:Earth Day Sunflowers
DESCRIPTION:Plant your own sunflowers to celebrate Earth Day. We will supply the materials you’ll need to brighten up your yard with gorgeous flowers. Bags will be available Friday\, April 22nd. \n 
URL:https://www.barrettlibrary.org/event/earth-day-sunflowers/
END:VEVENT
BEGIN:VEVENT
DTSTART;TZID=America/New_York:20220419T130000
DTEND;TZID=America/New_York:20220419T140000
DTSTAMP:20260425T083244
CREATED:20220406T194438Z
LAST-MODIFIED:20220406T194438Z
UID:4771-1650373200-1650376800@www.barrettlibrary.org
SUMMARY:Virtual Afternoon Book Club
DESCRIPTION:Join our virtual afternoon book club on Zoom. This month\, we will discuss The Thursday Murder Club by Richard Osman. If you’re interested in joining\, please call the library for more details.
URL:https://www.barrettlibrary.org/event/virtual-afternoon-book-club-8/
END:VEVENT
BEGIN:VEVENT
DTSTART;TZID=America/New_York:20220419T103000
DTEND;TZID=America/New_York:20220419T110000
DTSTAMP:20260425T083244
CREATED:20220316T185911Z
LAST-MODIFIED:20220316T185911Z
UID:4754-1650364200-1650366000@www.barrettlibrary.org
SUMMARY:Story Time at High Acres Park
DESCRIPTION:Story Time at High Acres Park \nAges 0-5 \nTuesdays in April 10:30AM \nAll children are welcome to join us under the pavilion at High Acres Park for stories\, songs\, and games!  \nRegistration is not required. If it is raining on story time day\, please check our Facebook page or call the library for updates about cancellations.
URL:https://www.barrettlibrary.org/event/story-time-at-high-acres-park-9/
END:VEVENT
BEGIN:VEVENT
DTSTART;TZID=America/New_York:20220418T080000
DTEND;TZID=America/New_York:20220418T170000
DTSTAMP:20260425T083244
CREATED:20220418T163557Z
LAST-MODIFIED:20220418T163557Z
UID:4813-1650268800-1650301200@www.barrettlibrary.org
SUMMARY:Saturday Night Library: Spring Flower Zentangle
DESCRIPTION:Saturday Night Library: Spring Flower Zentangle \nAges 6-11 \nSaturday\, May 7th 7PM on Zoom \nUse watercolors\, ink\, and your imagination to design a beautiful flower! This process-art experience will help you relax as you create.  \nPickup supplies at the library beginning May 4th.  \nJoin us on Zoom on Saturday\, May 7th and we will paint together!  \nPlease email chelseabpfl@gmail.com to register.
URL:https://www.barrettlibrary.org/event/saturday-night-library-spring-flower-zentangle/
END:VEVENT
BEGIN:VEVENT
DTSTART;VALUE=DATE:20220418
DTEND;VALUE=DATE:20220419
DTSTAMP:20260425T083244
CREATED:20220406T194317Z
LAST-MODIFIED:20220406T194317Z
UID:4769-1650240000-1650326399@www.barrettlibrary.org
SUMMARY:Haiku Challenge
DESCRIPTION:Celebrate National Poetry Month with a fun poetry challenge! We’ll post a prompt on our Facebook page\, and we would love to see your best Haiku poem in the comments.
URL:https://www.barrettlibrary.org/event/haiku-challenge/
END:VEVENT
BEGIN:VEVENT
DTSTART;TZID=America/New_York:20220414T183000
DTEND;TZID=America/New_York:20220414T193000
DTSTAMP:20260425T083244
CREATED:20220406T194104Z
LAST-MODIFIED:20220406T194104Z
UID:4767-1649961000-1649964600@www.barrettlibrary.org
SUMMARY:Virtual Writing Group
DESCRIPTION:Join our virtual writing group! We discuss the art of writing\, while coming up with fun writing exercises every meeting. Register to receive the Zoom link.
URL:https://www.barrettlibrary.org/event/virtual-writing-group-10/
END:VEVENT
BEGIN:VEVENT
DTSTART;TZID=America/New_York:20220412T103000
DTEND;TZID=America/New_York:20220412T110000
DTSTAMP:20260425T083244
CREATED:20220316T185648Z
LAST-MODIFIED:20220412T142730Z
UID:4751-1649759400-1649761200@www.barrettlibrary.org
SUMMARY:Story Time at High Acres Park (canceled today due to rain)
DESCRIPTION:Story Time at High Acres Park \nAges 0-5 \nTuesdays in April 10:30AM \nAll children are welcome to join us under the pavilion at High Acres Park for stories\, songs\, and games!  \nRegistration is not required. If it is raining on story time day\, please check our Facebook page or call the library for updates about cancellations.
URL:https://www.barrettlibrary.org/event/story-time-at-high-acres-park-8/
END:VEVENT
BEGIN:VEVENT
DTSTART;VALUE=DATE:20220411
DTEND;VALUE=DATE:20220412
DTSTAMP:20260425T083244
CREATED:20220405T204510Z
LAST-MODIFIED:20220405T204510Z
UID:4765-1649635200-1649721599@www.barrettlibrary.org
SUMMARY:Adult Take-Home Craft: Beaded Safety Pin Bracelet
DESCRIPTION:Make your own beaded bracelet using Library’s colors! We will supply all the materials. Bags will be available April 11th. For further information\, or to register\, please call the Library (570-595-7171) or email Lynn at l.vromanbpfl@gmail.com \n 
URL:https://www.barrettlibrary.org/event/adult-take-home-craft-beaded-safety-pin-bracelet/
END:VEVENT
BEGIN:VEVENT
DTSTART;TZID=America/New_York:20220405T103000
DTEND;TZID=America/New_York:20220405T110000
DTSTAMP:20260425T083244
CREATED:20220316T185504Z
LAST-MODIFIED:20220316T185756Z
UID:4749-1649154600-1649156400@www.barrettlibrary.org
SUMMARY:Story Time at High Acres Park
DESCRIPTION:Story Time at High Acres Park \nAges 0-5 \nTuesdays in April 10:30AM \nAll children are welcome to join us under the pavilion at High Acres Park for stories\, songs\, and games!  \nRegistration is not required. If it is raining on story time day\, please check our Facebook page or call the library for updates about cancellations.
URL:https://www.barrettlibrary.org/event/story-time-at-high-acres-park-7/
END:VEVENT
BEGIN:VEVENT
DTSTART;VALUE=DATE:20220401
DTEND;VALUE=DATE:20220402
DTSTAMP:20260425T083244
CREATED:20220316T184600Z
LAST-MODIFIED:20220316T184600Z
UID:4745-1648771200-1648857599@www.barrettlibrary.org
SUMMARY:Cruise Into Kindergarten- TO GO!
DESCRIPTION:Cruise Into Kindergarten- TO GO! \nPick up begins April 1st  \nSupplies are limited. Please call 570-595-7171 to register. (Please call to be added to the waitlist. This program is full.) \n“Ice and Water” \nThis month we will focus on skills of curiosity and inquiry. \nCruise into Kindergarten is an interactive story time which features stories\, music\, creative play and exploration. The activities support school readiness and the PA Pre-K Standards for literacy\, math\, science and many other skills. This is an ongoing series that runs from September 2021 through June 2022. \nEach month you will receive a to-go bag of activities that support school readiness. A special virtual children’s area will also be available with links to games\, videos\, and other websites for further exploration.
URL:https://www.barrettlibrary.org/event/cruise-into-kindergarten-to-go-5/
END:VEVENT
BEGIN:VEVENT
DTSTART;VALUE=DATE:20220401
DTEND;VALUE=DATE:20220402
DTSTAMP:20260425T083244
CREATED:20220316T184410Z
LAST-MODIFIED:20220316T184410Z
UID:4743-1648771200-1648857599@www.barrettlibrary.org
SUMMARY:Take and Make Projects for Children
DESCRIPTION:April Take and Make Projects \nSomething fun for kids of all ages! Pick-up a bag from the children’s area\, then take it home and let your creativity loose! Bags are available on a first-come\, first-served basis. \nAges 0-5 Rainbow Sand Art \nAges 6-11 Rain Hat Challenge
URL:https://www.barrettlibrary.org/event/take-and-make-projects-for-children/
END:VEVENT
BEGIN:VEVENT
DTSTART;TZID=America/New_York:20220329T190000
DTEND;TZID=America/New_York:20220329T200000
DTSTAMP:20260425T083244
CREATED:20220301T200020Z
LAST-MODIFIED:20220301T200020Z
UID:4733-1648580400-1648584000@www.barrettlibrary.org
SUMMARY:Virtual Evening Book Club
DESCRIPTION:Join our virtual evening book club on Zoom! This month\, we will discuss The Book Woman of Troublesome Creek by Kim Michele Richardson. If you’re interested in joining\, please call the library for more details. \n 
URL:https://www.barrettlibrary.org/event/virtual-evening-book-club-7/
END:VEVENT
BEGIN:VEVENT
DTSTART;TZID=America/New_York:20220326T190000
DTEND;TZID=America/New_York:20220326T193000
DTSTAMP:20260425T083244
CREATED:20220131T165045Z
LAST-MODIFIED:20220131T165045Z
UID:4698-1648321200-1648323000@www.barrettlibrary.org
SUMMARY:Saturday Night Library: Fairy Tale Trouble
DESCRIPTION:Saturday Night Library: Fairy Tale Trouble \nAges 6-11 \nSaturday\, March 26th 7PM \nIt is Dragon vs. Unicorn in this epic battle to rule Fairytale Forest. Complete S.T.E.M. Challenges using supplies from the library to settle this friendly feud. Pickup supplies beginning on March 23rd for the program on Saturday\, March 26th at 7PM.  Follow-along with the interactive fairy tale on Zoom. A link will be sent to registrants via email. Call to reserve supplies.
URL:https://www.barrettlibrary.org/event/saturday-night-library-fairy-tale-trouble/
END:VEVENT
BEGIN:VEVENT
DTSTART;TZID=America/New_York:20220315T130000
DTEND;TZID=America/New_York:20220315T140000
DTSTAMP:20260425T083244
CREATED:20220301T195919Z
LAST-MODIFIED:20220301T195919Z
UID:4731-1647349200-1647352800@www.barrettlibrary.org
SUMMARY:Virtual Afternoon Book Club
DESCRIPTION:Join our virtual afternoon book club on Zoom! This month\, we will discuss Britt-Marie was Here by Fredrik Backman. If you’re interested in joining\, please call the library for more details.
URL:https://www.barrettlibrary.org/event/virtual-afternoon-book-club-7/
END:VEVENT
BEGIN:VEVENT
DTSTART;VALUE=DATE:20220314
DTEND;VALUE=DATE:20220315
DTSTAMP:20260425T083244
CREATED:20220301T195755Z
LAST-MODIFIED:20220301T195755Z
UID:4729-1647216000-1647302399@www.barrettlibrary.org
SUMMARY:Adult Take-Home Craft: St. Patrick's Day Wreaths
DESCRIPTION:Make this fun\, easy St. Patrick’s Day wreath to add to your holiday décor! We’ll supply the materials and instructions. Kits will be available Monday\, March 14th.
URL:https://www.barrettlibrary.org/event/adult-take-home-craft-st-patricks-day-wreaths/
END:VEVENT
BEGIN:VEVENT
DTSTART;TZID=America/New_York:20220310T183000
DTEND;TZID=America/New_York:20220310T193000
DTSTAMP:20260425T083244
CREATED:20220301T195631Z
LAST-MODIFIED:20220301T195631Z
UID:4727-1646937000-1646940600@www.barrettlibrary.org
SUMMARY:Virtual Writing Group
DESCRIPTION:Join our virtual writing group! We discuss the art of writing\, while coming up with fun writing exercises every meeting. Register to receive the Zoom link.
URL:https://www.barrettlibrary.org/event/virtual-writing-group-9/
END:VEVENT
BEGIN:VEVENT
DTSTART;VALUE=DATE:20220302
DTEND;VALUE=DATE:20220303
DTSTAMP:20260425T083244
CREATED:20220228T201815Z
LAST-MODIFIED:20220228T203310Z
UID:4720-1646179200-1646265599@www.barrettlibrary.org
SUMMARY:Read Across America Day
DESCRIPTION:Celebrate the joy of reading with your friends at the library!  \nChildren of all ages are invited to visit the library on Wednesday\, March 2nd to pick out a free book.  \nWe will also be posting some live read-alouds and book trivia to our Facebook page at  www.Facebook.com/BpfLibrary
URL:https://www.barrettlibrary.org/event/read-across-america-day/
END:VEVENT
BEGIN:VEVENT
DTSTART;VALUE=DATE:20220301
DTEND;VALUE=DATE:20220302
DTSTAMP:20260425T083244
CREATED:20220228T203958Z
LAST-MODIFIED:20220228T204757Z
UID:4723-1646092800-1646179199@www.barrettlibrary.org
SUMMARY:Post-It Note Art Show
DESCRIPTION:Use supplies from the library to create art on a post-it note. The theme is “connections” in honor of National Library Week in April. You may pick up supplies in the children’s area beginning on March 1st. \nPlease return your finished art to the library before April 1st so we may add it to our post-it gallery display. \n*You may use additional art supplies like markers\, crayons\, or paint if you desire to do so. \n*You may submit more than one post-it for display. \n*All participants will receive online recognition and be entered into a raffle for some fun “bookish” prizes. \nThe theme for National Library Week 2022\, “Connect with Your Library\,” promotes the idea that libraries are places to get connected to technology by using broadband\, computers\, and other resources. Libraries also offer opportunities to connect with media\, programs\, ideas\, and classes—in addition to books. Most importantly libraries also connect communities to each other! \n 
URL:https://www.barrettlibrary.org/event/post-it-note-art-show/
END:VEVENT
BEGIN:VEVENT
DTSTART;VALUE=DATE:20220301
DTEND;VALUE=DATE:20220302
DTSTAMP:20260425T083244
CREATED:20220131T164949Z
LAST-MODIFIED:20220131T164949Z
UID:4696-1646092800-1646179199@www.barrettlibrary.org
SUMMARY:Cruise Into Kindergarten- TO GO!
DESCRIPTION:Cruise Into Kindergarten- TO GO! \nPick up begins March 1st \nSupplies are limited. Please call 570-595-7171 to register. \n“Numbers and Counting” \nThis month we will focus on Math skills  \nCruise into Kindergarten is an interactive story time which features stories\, music\, creative play and exploration. The activities support school readiness and the PA Pre-K Standards for literacy\, math\, science and many other skills. This is an ongoing series that runs from September 2021 through June 2022. \nEach month you will receive a to-go bag of activities that support school readiness. A special virtual children’s area will also be available with links to games\, videos\, and other websites for further exploration.
URL:https://www.barrettlibrary.org/event/cruise-into-kindergarten-to-go-4/
END:VEVENT
BEGIN:VEVENT
DTSTART;TZID=America/New_York:20220226T190000
DTEND;TZID=America/New_York:20220226T193000
DTSTAMP:20260425T083244
CREATED:20220119T185712Z
LAST-MODIFIED:20220119T185712Z
UID:4673-1645902000-1645903800@www.barrettlibrary.org
SUMMARY:Saturday Night Library: A Night at the Museum
DESCRIPTION:Saturday Night Library: A Night at the Museum \nAges 6-11 \nSaturday\, February 26th 7PM \nPickup supplies beginning on 2/23/21 \nCelebrate National Engineering Week with this Engineering challenge from the Smithsonian Museum!  \nPick up supplies from the library to design an exhibition for a top-secret artifact!  \nFollow-along on Facebook 2/26 at 7pm and share your design successes (and failures!) with your fellow engineers.
URL:https://www.barrettlibrary.org/event/saturday-night-library-a-night-at-the-museum/
END:VEVENT
BEGIN:VEVENT
DTSTART;TZID=America/New_York:20220222T190000
DTEND;TZID=America/New_York:20220222T200000
DTSTAMP:20260425T083244
CREATED:20220125T160351Z
LAST-MODIFIED:20220125T160351Z
UID:4690-1645556400-1645560000@www.barrettlibrary.org
SUMMARY:Virtual Evening Book Club
DESCRIPTION:Join our virtual evening book club on Zoom! This month\, we will discuss The Rosie Project by Graeme Simsion. If you’re interested in joining\, please call the library for more details. \n 
URL:https://www.barrettlibrary.org/event/virtual-evening-book-club-6/
END:VEVENT
BEGIN:VEVENT
DTSTART;TZID=America/New_York:20220215T130000
DTEND;TZID=America/New_York:20220215T140000
DTSTAMP:20260425T083244
CREATED:20220125T160239Z
LAST-MODIFIED:20220125T160239Z
UID:4687-1644930000-1644933600@www.barrettlibrary.org
SUMMARY:Virtual Afternoon Book Club
DESCRIPTION:Join our virtual afternoon book club on Zoom! This month\, we will discuss The Other Einstein by Marie Benedict. If you’re interested in joining\, please call the library for more details. \n 
URL:https://www.barrettlibrary.org/event/virtual-afternoon-book-club-6/
END:VEVENT
BEGIN:VEVENT
DTSTART;VALUE=DATE:20220214
DTEND;VALUE=DATE:20220215
DTSTAMP:20260425T083244
CREATED:20220125T155320Z
LAST-MODIFIED:20220125T155320Z
UID:4685-1644796800-1644883199@www.barrettlibrary.org
SUMMARY:Adult Take-Home Craft: Yarn Hearts
DESCRIPTION:Make a fun Valentine’s craft you can keep or give to someone else. We’ll supply all the materials and directions. Bags will be ready for pick up February 14th.
URL:https://www.barrettlibrary.org/event/adult-take-home-craft-yarn-hearts/
END:VEVENT
BEGIN:VEVENT
DTSTART;TZID=America/New_York:20220210T183000
DTEND;TZID=America/New_York:20220210T193000
DTSTAMP:20260425T083244
CREATED:20220125T155215Z
LAST-MODIFIED:20220125T155215Z
UID:4683-1644517800-1644521400@www.barrettlibrary.org
SUMMARY:Virtual Writing Group
DESCRIPTION:Join our virtual writing group! We discuss the art of writing\, while coming up with fun writing exercises every meeting. Register to receive the Zoom link. \n 
URL:https://www.barrettlibrary.org/event/virtual-writing-group-8/
END:VEVENT
BEGIN:VEVENT
DTSTART;TZID=America/New_York:20220201T100000
DTEND;TZID=America/New_York:20220201T170000
DTSTAMP:20260425T083244
CREATED:20220119T185239Z
LAST-MODIFIED:20220119T185919Z
UID:4671-1643709600-1643734800@www.barrettlibrary.org
SUMMARY:Take and Make - Heart Wreath
DESCRIPTION:February Take & Makes \nFebruary 1st \nPick up supplies at the Library and complete the project on your own at home. \nActivities are available in the children’s area on a first-come\, first-served basis. Supplies are limited! \nAll Ages – Heart Wreath
URL:https://www.barrettlibrary.org/event/take-and-make-heart-wreath/
END:VEVENT
BEGIN:VEVENT
DTSTART;VALUE=DATE:20220201
DTEND;VALUE=DATE:20220301
DTSTAMP:20260425T083244
CREATED:20220125T155049Z
LAST-MODIFIED:20220125T155049Z
UID:4681-1643673600-1646092799@www.barrettlibrary.org
SUMMARY:Blind Date with a Book
DESCRIPTION:For the month of February\, we will have a Blind Date with a Book challenge. Pick a book from our wrapped-book display\, read it\, rate it using the card found in the bag\, and then bring back the card to be entered into a basket raffle. For more information\, call the Library. \n 
URL:https://www.barrettlibrary.org/event/blind-date-with-a-book/
END:VEVENT
BEGIN:VEVENT
DTSTART;TZID=America/New_York:20220129T190000
DTEND;TZID=America/New_York:20220129T193000
DTSTAMP:20260425T083244
CREATED:20220122T232534Z
LAST-MODIFIED:20220122T232716Z
UID:4676-1643482800-1643484600@www.barrettlibrary.org
SUMMARY:Saturday Night Library: Lights of Winter (postponed)
DESCRIPTION:Saturday Night Library: Lights of Winter\nAges 6-11\n**postponed until Saturday\, 1/29/2022 at 7PM**\nWe still have supplies available!\nSaturday\, January 22nd 7PM\nPickup supplies beginning 1/19/22\nJoin us as we explore the significance of light in many winter holiday celebrations.\nUse supplies from the library to create a simple circuit that will illuminate a special holiday card.
URL:https://www.barrettlibrary.org/event/saturday-night-library-lights-of-winter-postponed/
END:VEVENT
END:VCALENDAR