BEGIN:VCALENDAR
VERSION:2.0
PRODID:-//Barrett Paradise Friendly Library - ECPv6.15.20//NONSGML v1.0//EN
CALSCALE:GREGORIAN
METHOD:PUBLISH
X-ORIGINAL-URL:https://www.barrettlibrary.org
X-WR-CALDESC:Events for Barrett Paradise Friendly Library
REFRESH-INTERVAL;VALUE=DURATION:PT1H
X-Robots-Tag:noindex
X-PUBLISHED-TTL:PT1H
BEGIN:VTIMEZONE
TZID:America/New_York
BEGIN:DAYLIGHT
TZOFFSETFROM:-0500
TZOFFSETTO:-0400
TZNAME:EDT
DTSTART:20250309T070000
END:DAYLIGHT
BEGIN:STANDARD
TZOFFSETFROM:-0400
TZOFFSETTO:-0500
TZNAME:EST
DTSTART:20251102T060000
END:STANDARD
BEGIN:DAYLIGHT
TZOFFSETFROM:-0500
TZOFFSETTO:-0400
TZNAME:EDT
DTSTART:20260308T070000
END:DAYLIGHT
BEGIN:STANDARD
TZOFFSETFROM:-0400
TZOFFSETTO:-0500
TZNAME:EST
DTSTART:20261101T060000
END:STANDARD
BEGIN:DAYLIGHT
TZOFFSETFROM:-0500
TZOFFSETTO:-0400
TZNAME:EDT
DTSTART:20270314T070000
END:DAYLIGHT
BEGIN:STANDARD
TZOFFSETFROM:-0400
TZOFFSETTO:-0500
TZNAME:EST
DTSTART:20271107T060000
END:STANDARD
END:VTIMEZONE
BEGIN:VEVENT
DTSTART;TZID=America/New_York:20260423T103000
DTEND;TZID=America/New_York:20260423T110000
DTSTAMP:20260423T093129
CREATED:20260327T144601Z
LAST-MODIFIED:20260327T144601Z
UID:8336-1776940200-1776942000@www.barrettlibrary.org
SUMMARY:Library Story Time
DESCRIPTION:Library Story Time \nAges 0-5 \nThursdays in April 10:30am \nJoin us in the children’s area for stories\, songs\, crafts\, and more!
URL:https://www.barrettlibrary.org/event/library-story-time-96/
END:VEVENT
BEGIN:VEVENT
DTSTART;TZID=America/New_York:20260423T140000
DTEND;TZID=America/New_York:20260423T150000
DTSTAMP:20260423T093129
CREATED:20260331T163421Z
LAST-MODIFIED:20260331T163421Z
UID:8376-1776952800-1776956400@www.barrettlibrary.org
SUMMARY:Link up with Libby
DESCRIPTION:Come to the library with your smartphone or tablet\, and we will help you download and navigate the Libby app! Borrow digital books\, magazines\, and audiobooks with this easy-to-use resource. No registration required for this program.
URL:https://www.barrettlibrary.org/event/link-up-with-libby-3/
END:VEVENT
BEGIN:VEVENT
DTSTART;TZID=America/New_York:20260423T140000
DTEND;TZID=America/New_York:20260423T160000
DTSTAMP:20260423T093129
CREATED:20260401T160037Z
LAST-MODIFIED:20260403T202109Z
UID:8392-1776952800-1776960000@www.barrettlibrary.org
SUMMARY:Intro to Watercolors
DESCRIPTION:Instructor John James will guide beginners as well as those with some experience in this five-week class exploring watercolor painting. All supplies provided. Class size is limited: registration required. Preference given to those who have not taken classes with John before. \nPlease call the Library to register\, 570-595-7171. When registering\, please indicate whether you’ve taken watercolor classes before.
URL:https://www.barrettlibrary.org/event/intro-to-watercolors-5/
END:VEVENT
BEGIN:VEVENT
DTSTART;TZID=America/New_York:20260423T183000
DTEND;TZID=America/New_York:20260423T193000
DTSTAMP:20260423T093129
CREATED:20260331T163542Z
LAST-MODIFIED:20260331T163542Z
UID:8378-1776969000-1776972600@www.barrettlibrary.org
SUMMARY:Virtual Writing Group: Ready to Write a Novel?
DESCRIPTION:This month we will discuss the first scene after our inciting incident in our novels and get feedback from the group. If you’re interested in joining us\, please contact Lynn for more info\, l.vromanbpfl@gmail.com.
URL:https://www.barrettlibrary.org/event/virtual-writing-group-ready-to-write-a-novel-6/
END:VEVENT
BEGIN:VEVENT
DTSTART;TZID=America/New_York:20260427T114500
DTEND;TZID=America/New_York:20260427T124500
DTSTAMP:20260423T093129
CREATED:20260331T162112Z
LAST-MODIFIED:20260331T162112Z
UID:8356-1777290300-1777293900@www.barrettlibrary.org
SUMMARY:Light Yoga & Beginner Pilates
DESCRIPTION:Danielle Lane will guide you through relaxing light yoga or beginner Pilates. The level of difficulty will be tailored to the participants.
URL:https://www.barrettlibrary.org/event/light-yoga-beginner-pilates-14/
END:VEVENT
BEGIN:VEVENT
DTSTART;TZID=America/New_York:20260428T103000
DTEND;TZID=America/New_York:20260428T110000
DTSTAMP:20260423T093129
CREATED:20260327T141528Z
LAST-MODIFIED:20260327T141528Z
UID:8328-1777372200-1777374000@www.barrettlibrary.org
SUMMARY:Baby & Me
DESCRIPTION:Baby & Me \nAges 0-2 \nTuesdays in April 10:30am \nA special story time for our youngest patrons and their grownups.  \nJoin us for stories\, songs\, and games! 
URL:https://www.barrettlibrary.org/event/baby-me-130/
END:VEVENT
BEGIN:VEVENT
DTSTART;TZID=America/New_York:20260428T190000
DTEND;TZID=America/New_York:20260428T200000
DTSTAMP:20260423T093129
CREATED:20260331T163735Z
LAST-MODIFIED:20260331T163735Z
UID:8380-1777402800-1777406400@www.barrettlibrary.org
SUMMARY:Virtual Evening Book Club
DESCRIPTION:Join our virtual Evening Book Club on Zoom. This month we will discuss Sense and Sensibility by Jane Austin. If you’re interested in joining\, please contact the Library for more details.
URL:https://www.barrettlibrary.org/event/virtual-evening-book-club-44/
END:VEVENT
BEGIN:VEVENT
DTSTART;TZID=America/New_York:20260429T103000
DTEND;TZID=America/New_York:20260429T113000
DTSTAMP:20260423T093129
CREATED:20260331T162616Z
LAST-MODIFIED:20260331T162616Z
UID:8366-1777458600-1777462200@www.barrettlibrary.org
SUMMARY:Shakespeare Group
DESCRIPTION:Join the entertaining & knowledgeable Pat Williams at the Library. All are welcome\, whether you’re a Bard beginner or a long-time devotee. Discuss plays\, watch films\, and more. Attendees will help guide the direction of the group. 
URL:https://www.barrettlibrary.org/event/shakespeare-group-50/
END:VEVENT
BEGIN:VEVENT
DTSTART;TZID=America/New_York:20260430T103000
DTEND;TZID=America/New_York:20260430T113000
DTSTAMP:20260423T093129
CREATED:20260327T144726Z
LAST-MODIFIED:20260327T144726Z
UID:8338-1777545000-1777548600@www.barrettlibrary.org
SUMMARY:Library Story Time
DESCRIPTION:Library Story Time \nAges 0-5 \nThursdays in April 10:30am \nJoin us in the children’s area for stories\, songs\, crafts\, and more!
URL:https://www.barrettlibrary.org/event/library-story-time-97/
END:VEVENT
BEGIN:VEVENT
DTSTART;TZID=America/New_York:20260430T140000
DTEND;TZID=America/New_York:20260430T160000
DTSTAMP:20260423T093129
CREATED:20260401T160130Z
LAST-MODIFIED:20260403T202238Z
UID:8394-1777557600-1777564800@www.barrettlibrary.org
SUMMARY:Intro to Watercolors
DESCRIPTION:Instructors John James & Cathy Zateeny will guide beginners as well as those with some experience in this five-week class exploring watercolor painting. All supplies provided. Class size is limited: registration required. Preference given to those who have not taken classes with John before. \nPlease call the Library to register\, 570-595-7171. When registering\, please indicate whether you’ve taken watercolor classes before.
URL:https://www.barrettlibrary.org/event/intro-to-watercolors-6/
END:VEVENT
END:VCALENDAR